BEGIN:VCALENDAR
PRODID:-//punkave//apostrophe 2.x//EN
VERSION:1.0
TZ:0
BEGIN:VEVENT
CATEGORIES:MEETING
DTSTART:20260829T220000Z
DTEND:20260830T020000Z
DTSTAMP:20260422T155102Z
SUMMARY:Summer Sounds Concert Series: Ripe
DESCRIPTION:Spend your summer night on the Waterfront with Ripe, live at Spruce Street Harbor Park as part of the Summer Sounds Concert Series. Free and open to the public. All ages!




Get ready for a standout night on the waterfront with Ripe, live at Spruce Street Harbor Park as part of the Summer Sounds Concert Series.


What to Expect:


	
Live Waterfront concert with skyline views
	
Food, drinks, and hammock vibes
	
A high-energy, feel-good night of music

	

	 



In partnership with Rising Sun Presents.


Plan Your Visit:


While at Spruce Street Harbor Park, enjoy free live music, food and drink, comfortable seating, and stunning waterfront views.


What to Know Before You Go:

Parking on-site will be limited due to construction on the I-95 CAP. However, many great ways to access the Waterfront include walking and biking along the Delaware River Trail, rideshare, and public transit. To ensure a seamless visit, guests can visit the Know Before You Go guide for parking recommendations, directions, FAQs, and more.
LOCATION:undefined
UID:729222499593155837
END:VEVENT
END:VCALENDAR
